BEGIN:VCALENDAR
VERSION:2.0
PRODID:-//jEvents 2.0 for Joomla//EN
CALSCALE:GREGORIAN
METHOD:PUBLISH
BEGIN:VTIMEZONE
TZID:Europe/Vienna
BEGIN:STANDARD
DTSTART:20241027T020000
RDATE:20250330T030000
TZOFFSETFROM:+0200
TZOFFSETTO:+0100
TZNAME:Europe/Vienna CET
END:STANDARD
BEGIN:STANDARD
DTSTART:20251026T020000
RDATE:20260329T030000
TZOFFSETFROM:+0200
TZOFFSETTO:+0100
TZNAME:Europe/Vienna CET
END:STANDARD
BEGIN:STANDARD
DTSTART:20261025T020000
RDATE:20270328T030000
TZOFFSETFROM:+0200
TZOFFSETTO:+0100
TZNAME:Europe/Vienna CET
END:STANDARD
BEGIN:STANDARD
DTSTART:20271031T020000
RDATE:20280326T030000
TZOFFSETFROM:+0200
TZOFFSETTO:+0100
TZNAME:Europe/Vienna CET
END:STANDARD
BEGIN:DAYLIGHT
DTSTART:20240717T000000
RDATE:20241027T020000
TZOFFSETFROM:+0100
TZOFFSETTO:+0200
TZNAME:Europe/Vienna CEST
END:DAYLIGHT
BEGIN:DAYLIGHT
DTSTART:20250330T030000
RDATE:20251026T020000
TZOFFSETFROM:+0100
TZOFFSETTO:+0200
TZNAME:Europe/Vienna CEST
END:DAYLIGHT
BEGIN:DAYLIGHT
DTSTART:20260329T030000
RDATE:20261025T020000
TZOFFSETFROM:+0100
TZOFFSETTO:+0200
TZNAME:Europe/Vienna CEST
END:DAYLIGHT
BEGIN:DAYLIGHT
DTSTART:20270328T030000
RDATE:20271031T020000
TZOFFSETFROM:+0100
TZOFFSETTO:+0200
TZNAME:Europe/Vienna CEST
END:DAYLIGHT
END:VTIMEZONE
BEGIN:VEVENT
UID:adc3b428cf10d5599feb3abf82ae212c
CATEGORIES:Klassenregatta
CREATED:20250515T152614
SUMMARY:TR:: 420er Sommercup Regatta 2
LOCATION:SCATT
DESCRIPTION;ENCODING=QUOTED-PRINTABLE:
CONTACT:https://www.scatt.at/regatten/kalender-2/
X-EXTRAINFO:Infos: Diese E-Mail-Adresse ist vor Spambots geschützt! Zur Anzeige muss Ja
 vaScript eingeschaltet sein!
				document.getElementById('cloakeb0f0869ef47
 05add609192174d4470c').innerHTML = '';
				var prefix = '&#109;a' + 'i&#108
 ;' + '&#116;o';
				var path = 'hr' + 'ef' + '=';
				var addyeb0f0869ef470
 5add609192174d4470c = 'r.l&#101;ng&#97;&#117;&#101;r' + '&#64;';
				addyeb
 0f0869ef4705add609192174d4470c = addyeb0f0869ef4705add609192174d4470c + 'sc
 &#97;tt' + '&#46;' + '&#97;t';
				var addy_texteb0f0869ef4705add609192174d
 4470c = 'r.l&#101;ng&#97;&#117;&#101;r' + '&#64;' + 'sc&#97;tt' + '&#46;' +
  '&#97;t';document.getElementById('cloakeb0f0869ef4705add609192174d4470c').
 innerHTML += ''+addy_texteb0f0869ef4705add609192174d4470c+'';
		
DTSTAMP:20260424T123154Z
DTSTART;TZID=Europe/Vienna;VALUE=DATE:20250718
DTEND;TZID=Europe/Vienna;VALUE=DATE:20250719
SEQUENCE:0
TRANSP:OPAQUE
END:VEVENT
END:VCALENDAR